BEGIN:VCALENDAR
VERSION:2.0
PRODID:-//FJSC - ECPv6.0.10//NONSGML v1.0//EN
CALSCALE:GREGORIAN
METHOD:PUBLISH
X-WR-CALNAME:FJSC
X-ORIGINAL-URL:https://fjsc.fortuners.ro
X-WR-CALDESC:Events for FJSC
REFRESH-INTERVAL;VALUE=DURATION:PT1H
X-Robots-Tag:noindex
X-PUBLISHED-TTL:PT1H
BEGIN:VTIMEZONE
TZID:Europe/Helsinki
BEGIN:DAYLIGHT
TZOFFSETFROM:+0200
TZOFFSETTO:+0300
TZNAME:EEST
DTSTART:20230326T010000
END:DAYLIGHT
BEGIN:STANDARD
TZOFFSETFROM:+0300
TZOFFSETTO:+0200
TZNAME:EET
DTSTART:20231029T010000
END:STANDARD
END:VTIMEZONE
BEGIN:VEVENT
DTSTART;TZID=Europe/Helsinki:20230331T143000
DTEND;TZID=Europe/Helsinki:20230331T163000
DTSTAMP:20260420T005356
CREATED:20230309T084726Z
LAST-MODIFIED:20230313T161832Z
UID:9125-1680273000-1680280200@fjsc.fortuners.ro
SUMMARY:Serile FJSC: Media și comunicare în era digitală
DESCRIPTION:Data: 31 martie 2023\, ora 14:30 \nInvitat guest speaker: jurnalist italian Mario Calabresi\, director „La Stampa” (2009 – 2015) și „La Repubblica” (2016 – 2019). \nJurnalist\, editorialist și scriitor\, Mario Calabresi vine în România în perioada 30 martie-2 aprilie\, prilej cu care va lansa cartea O singură dată. Poveștile celor care au avut curajul să aleagă. \nVor participa și vor lua cuvântul la dezbatere: E.S. Dl. Alfredo Durante Mangoni\, Ambasadorul Italiei la București și Luca Niculescu\, secretar de stat pentru aderarea la OCDE\, fost ambasador al României la Paris\, alumnus FJSC. \n  \nModerator: conf. dr. Antonio Momoc\, decan FJSC.
URL:https://fjsc.fortuners.ro/eveniment/serile-fjsc-media-si-comunicare-in-era-digitala/
CATEGORIES:Evenimente,Serile FJSC
ORGANIZER;CN="FJSC":MAILTO:secretariat@fjsc.ro
END:VEVENT
BEGIN:VEVENT
DTSTART;VALUE=DATE:20230322
DTEND;VALUE=DATE:20230427
DTSTAMP:20260420T005356
CREATED:20230305T123304Z
LAST-MODIFIED:20230309T162532Z
UID:8841-1679443200-1682553599@fjsc.fortuners.ro
SUMMARY:Caravana oficială a FJSC 2023
DESCRIPTION:Caravana FJSC va avea loc în intervalul 22 martie – 26 aprilie 2023.  Reprezentanții management-ului FJSC (decan\, prodecani) împreună cu o echipă formată din studenții facultății se vor deplasa în principalele licee și colegii bucureștene pentru a prezenta atât oferta educațională a facultății\, cât și noua identitate vizuală a FJSC.
URL:https://fjsc.fortuners.ro/eveniment/caravana-oficiala-a-fjsc-2023/
CATEGORIES:Evenimente
ORGANIZER;CN="FJSC":MAILTO:secretariat@fjsc.ro
END:VEVENT
END:VCALENDAR